BEGIN:VCALENDAR
VERSION:2.0
PRODID:-//Camp Mak-A-Dream - ECPv6.15.20//NONSGML v1.0//EN
CALSCALE:GREGORIAN
METHOD:PUBLISH
X-ORIGINAL-URL:https://www.campdream.org
X-WR-CALDESC:Events for Camp Mak-A-Dream
REFRESH-INTERVAL;VALUE=DURATION:PT1H
X-Robots-Tag:noindex
X-PUBLISHED-TTL:PT1H
BEGIN:VTIMEZONE
TZID:UTC
BEGIN:STANDARD
TZOFFSETFROM:+0000
TZOFFSETTO:+0000
TZNAME:UTC
DTSTART:20230101T000000
END:STANDARD
END:VTIMEZONE
BEGIN:VEVENT
DTSTART;VALUE=DATE:20240425
DTEND;VALUE=DATE:20240430
DTSTAMP:20260421T083816
CREATED:20200311T115017Z
LAST-MODIFIED:20231103T223150Z
UID:1469-1714003200-1714435199@www.campdream.org
SUMMARY:Spring Caregivers Retreat
DESCRIPTION:Retreat for cancer survivors (21+) and their caregiver (21+) \nCancer takes a physical and emotional toll on both the person diagnosed with cancer and the people caring for them. Here you will find a supportive community of cancer survivors and their primary caregivers (partner\, sibling\, parent… whoever is helping care for you) to interact and learn from each other in a safe\, supportive environment. Come share your story\, life experiences and meet others who understand what it means to support a loved one living with\, through and beyond cancer. The retreat will be held April 20-24 and includes accommodations\, meals\, all workshops\, retreat activities & transportation between the Missoula airport and the Camp facility in Gold Creek\, MT. \nApplications open January 3rd\, 2024
URL:https://www.campdream.org/event/caregiver-retreat-2/
LOCATION:Camp Mak-A-Dream\, 727 Camp Mak-A-Dream Road\, Gold Creek\, MT\, 59733\, United States
CATEGORIES:Camps & Programs,Caregiver Retreat
ATTACH;FMTTYPE=image/jpeg:https://www.campdream.org/wp-content/uploads/2020/03/DSC_4189-scaled.jpg
END:VEVENT
END:VCALENDAR